BEGIN:VCALENDAR
VERSION:2.0
PRODID:-//ChamberMaster//Event Calendar 2.0//EN
METHOD:PUBLISH
X-PUBLISHED-TTL:P1H
REFRESH-INTERVAL:P1H
CALSCALE:GREGORIAN
BEGIN:VTIMEZONE
TZID:America/Los_Angeles
BEGIN:DAYLIGHT
RRULE:FREQ=YEARLY;BYMONTH=3;BYDAY=2SU
DTSTART:20070101T000000
TZOFFSETFROM:-0800
TZOFFSETTO:-0700
TZNAME:Pacific Daylight Time
END:DAYLIGHT
BEGIN:STANDARD
RRULE:FREQ=YEARLY;BYMONTH=11;BYDAY=1SU
DTSTART:20070101T000000
TZOFFSETFROM:-0700
TZOFFSETTO:-0800
TZNAME:Pacific Standard Time
END:STANDARD
END:VTIMEZONE
BEGIN:VEVENT
DTSTART;TZID=America/Los_Angeles:20260613T190000
DTEND;TZID=America/Los_Angeles:20260613T203000
X-MICROSOFT-CDO-ALLDAYEVENT:FALSE
SUMMARY:Comedy Night in Fallbrook
DESCRIPTION:Tickets & Event Info: https://www.eventbrite.com/e/comedy-night-in-fallbrook-tickets-1987080540387?aff=oddtdtcreator\nGet ready to laugh out loud at The Comedy Night in Fallbrook live jokes\, fun vibes\, and good times!Comedy Night in FallbrookA laugh-out-loud night with headliner Ben Keltner bringing razor‑sharp wit\, wildly relatable stories\, and punchlines you'll love!🎉 Comedy Night in Fallbrook 🍻Date: Saturday\, June 13\, 2026Time: 7:00 PM (Doors open at 6:30 PM)Location: 136 N Main Ave\, Fallbrook\, CA 92028\nGet ready for a night of nonstop laughs and laid‑back energy as Ben Keltner hits Fallbrook! Whether you're rolling in with friends\, out on a date\, or flying solo\, this is your chance to unwind\, meet new people\, and catch top‑tier stand‑up from one of the sharpest voices around. Expect a lively crowd\, great drinks\, and the kind of jokes that stick with you long after the show. Come early\, stay late\, and make it a night you'll be talking about all week!🌟 Featuring Ben Keltner and other talented comedians!\n\n🎟️ Act fast tickets won't last!\nGet ready for a night packed with laughs\, drinks\, and good company.\nComedy\, connections\, and good vibes await don't miss out!
X-ALT-DESC;FMTTYPE=text/html:<!DOCTYPE html><html><head><title></title></head><body aria-disabled="false" data-gr-ext-installed="" data-new-gr-c-s-check-loaded="14.1283.0" data-new-gr-c-s-loaded="14.1283.0" spellcheck="false"><div data-testid="text-content" style='box-sizing: border-box\; padding: 0px\; margin: 0px\; color: rgb(88\, 81\, 99)\; align-self: stretch\; overflow: hidden\; text-overflow: ellipsis\; font-weight: 400\; line-height: 23.94px\; letter-spacing: 0.1px\; font-size: 18px\; font-family: "Neue Plak"\, -apple-system\, BlinkMacSystemFont\, Roboto\, "Helvetica Neue"\, Helvetica\, Tahoma\, Arial\, sans-serif\; font-style: normal\; font-variant-ligatures: normal\; font-variant-caps: normal\; orphans: 2\; text-align: start\; text-indent: 0px\; text-transform: none\; widows: 2\; word-spacing: 0px\; -webkit-text-stroke-width: 0px\; white-space: normal\; text-decoration-thickness: initial\; text-decoration-style: initial\; text-decoration-color: initial\;'><div style="box-sizing: border-box\; padding: 0px\; margin: 0px\;"><p style="box-sizing: border-box\; padding: 0px 0px 12px\; margin: 0px\;">Tickets &amp\; Event Info: <a fr-original-style="" href="https://www.eventbrite.com/e/comedy-night-in-fallbrook-tickets-1987080540387?aff=oddtdtcreator" style="user-select: auto\;">https://www.eventbrite.com/e/comedy-night-in-fallbrook-tickets-1987080540387?aff=oddtdtcreator</a></p><p style="box-sizing: border-box\; padding: 0px 0px 12px\; margin: 0px\;"><br></p></div></div><div data-testid="text-content" style='box-sizing: border-box\; padding: 0px\; margin: 0px\; color: rgb(88\, 81\, 99)\; align-self: stretch\; overflow: hidden\; text-overflow: ellipsis\; font-weight: 400\; line-height: 23.94px\; letter-spacing: 0.1px\; font-size: 18px\; font-family: "Neue Plak"\, -apple-system\, BlinkMacSystemFont\, Roboto\, "Helvetica Neue"\, Helvetica\, Tahoma\, Arial\, sans-serif\; font-style: normal\; font-variant-ligatures: normal\; font-variant-caps: normal\; orphans: 2\; text-align: start\; text-indent: 0px\; text-transform: none\; widows: 2\; word-spacing: 0px\; -webkit-text-stroke-width: 0px\; white-space: normal\; text-decoration-thickness: initial\; text-decoration-style: initial\; text-decoration-color: initial\;'><div style="box-sizing: border-box\; padding: 0px\; margin: 0px\;"><p style="box-sizing: border-box\; padding: 0px 0px 12px\; margin: 0px\;">Get ready to laugh out loud at The Comedy Night in Fallbrook&mdash\;live jokes\, fun vibes\, and good times!</p><h2 style="box-sizing: border-box\; padding: 0px\; margin: 0px\;">Comedy Night in Fallbrook</h2><p style="box-sizing: border-box\; padding: 0px 0px 12px\; margin: 12px 0px 0px\;">A laugh-out-loud night with headliner Ben Keltner bringing razor‑sharp wit\, wildly relatable stories\, and punchlines you&rsquo\;ll love!</p><p style="box-sizing: border-box\; padding: 0px 0px 12px\; margin: 12px 0px 0px\;">🎉 Comedy Night in Fallbrook 🍻</p><p style="box-sizing: border-box\; padding: 0px 0px 12px\; margin: 12px 0px 0px\;">Date: Saturday\, June 13\, 2026</p><p style="box-sizing: border-box\; padding: 0px 0px 12px\; margin: 12px 0px 0px\;">Time: 7:00 PM (Doors open at 6:30 PM)</p><p style="box-sizing: border-box\; padding: 0px 0px 12px\; margin: 12px 0px 0px\;"><strong fr-original-style="box-sizing: border-box\; padding: 0px\; margin: 0px\; font-weight: 600\;" style="box-sizing: border-box\; padding: 0px\; margin: 0px\; font-weight: 600\;"><strong fr-original-style="box-sizing: border-box\; padding: 0px\; margin: 0px\; font-weight: 600\;" style="box-sizing: border-box\; padding: 0px\; margin: 0px\; font-weight: 600\;">Location:</strong></strong><strong fr-original-style="box-sizing: border-box\; padding: 0px\; margin: 0px\; font-weight: 600\;" style="box-sizing: border-box\; padding: 0px\; margin: 0px\; font-weight: 600\;"><strong fr-original-style="box-sizing: border-box\; padding: 0px\; margin: 0px\; font-weight: 600\;" style="box-sizing: border-box\; padding: 0px\; margin: 0px\; font-weight: 600\;">&nbsp\;</strong></strong><strong fr-original-style="box-sizing: border-box\; padding: 0px\; margin: 0px\; font-weight: 600\;" style="box-sizing: border-box\; padding: 0px\; margin: 0px\; font-weight: 600\;"><strong fr-original-style="box-sizing: border-box\; padding: 0px\; margin: 0px\; font-weight: 600\;" style="box-sizing: border-box\; padding: 0px\; margin: 0px\; font-weight: 600\;">136 N Main Ave\, Fallbrook\, CA 92028</strong></strong></p><p style="box-sizing: border-box\; padding: 0px 0px 12px\; margin: 12px 0px 0px\;"><br style="box-sizing: border-box\; padding: 0px\; margin: 0px\;"></p><p style="box-sizing: border-box\; padding: 0px 0px 12px\; margin: 12px 0px 0px\;">Get ready for a night of nonstop laughs and laid‑back energy as Ben Keltner hits Fallbrook! Whether you&rsquo\;re rolling in with friends\, out on a date\, or flying solo\, this is your chance to unwind\, meet new people\, and catch top‑tier stand‑up from one of the sharpest voices around. Expect a lively crowd\, great drinks\, and the kind of jokes that stick with you long after the show. Come early\, stay late\, and make it a night you&rsquo\;ll be talking about all week!</p><p style="box-sizing: border-box\; padding: 0px 0px 12px\; margin: 12px 0px 0px\;">🌟 Featuring Ben Keltner and other talented comedians!<br style="box-sizing: border-box\; padding: 0px\; margin: 0px\;"><br style="box-sizing: border-box\; padding: 0px\; margin: 0px\;">🎟️ Act fast&mdash\;tickets won&rsquo\;t last!<br style="box-sizing: border-box\; padding: 0px\; margin: 0px\;">Get ready for a night packed with laughs\, drinks\, and good company.<br style="box-sizing: border-box\; padding: 0px\; margin: 0px\;">Comedy\, connections\, and good vibes await&mdash\;don&rsquo\;t miss out!</p></div></div></body></html>
LOCATION:
UID:e.2384.1443882
SEQUENCE:3
DTSTAMP:20260421T003343Z
URL:https://business.fallbrookchamberofcommerce.org/communityevents/Details/comedy-night-in-fallbrook-1710163?sourceTypeId=Hub
END:VEVENT
END:VCALENDAR
